BEGIN:VCALENDAR
VERSION:2.0
PRODID:-//Brisbane ICC - ECPv6.15.20//NONSGML v1.0//EN
CALSCALE:GREGORIAN
METHOD:PUBLISH
X-ORIGINAL-URL:https://brisbaneicc.org
X-WR-CALDESC:Events for Brisbane ICC
REFRESH-INTERVAL;VALUE=DURATION:PT1H
X-Robots-Tag:noindex
X-PUBLISHED-TTL:PT1H
BEGIN:VTIMEZONE
TZID:Australia/Melbourne
BEGIN:STANDARD
TZOFFSETFROM:+1100
TZOFFSETTO:+1000
TZNAME:AEST
DTSTART:20240406T160000
END:STANDARD
BEGIN:DAYLIGHT
TZOFFSETFROM:+1000
TZOFFSETTO:+1100
TZNAME:AEDT
DTSTART:20241005T160000
END:DAYLIGHT
BEGIN:STANDARD
TZOFFSETFROM:+1100
TZOFFSETTO:+1000
TZNAME:AEST
DTSTART:20250405T160000
END:STANDARD
BEGIN:DAYLIGHT
TZOFFSETFROM:+1000
TZOFFSETTO:+1100
TZNAME:AEDT
DTSTART:20251004T160000
END:DAYLIGHT
BEGIN:STANDARD
TZOFFSETFROM:+1100
TZOFFSETTO:+1000
TZNAME:AEST
DTSTART:20260404T160000
END:STANDARD
BEGIN:DAYLIGHT
TZOFFSETFROM:+1000
TZOFFSETTO:+1100
TZNAME:AEDT
DTSTART:20261003T160000
END:DAYLIGHT
END:VTIMEZONE
BEGIN:VEVENT
DTSTART;TZID=Australia/Melbourne:20250119T100000
DTEND;TZID=Australia/Melbourne:20250119T133000
DTSTAMP:20260424T190239
CREATED:20250109T202708Z
LAST-MODIFIED:20250109T202751Z
UID:1659-1737280800-1737293400@brisbaneicc.org
SUMMARY:1st Year Anniversary Service
DESCRIPTION:Come along for food\, prizes\, performances and new connections! \nIt’s been 1 year of being in the community with projects for those in need\, Friday night events on universities for students and young professionals\, celebrating different calendar events with people\, hosting our own and much more! So\, to celebrate being in the Brisbane community\, we are putting on our first ever anniversary service! \n10AM start at AHEPA Hall\, West End \nAll are welcome\, if you have any unique dietary requirements or have any questions\, go to the Let’s Connect page.
URL:https://brisbaneicc.org/calendar/1st-year-anniversary-service/
LOCATION:AHEPA Hall\, 128 Boundary St\, Brisbane\, Queensland\, Australia
ORGANIZER;CN="Solomon Alder":MAILTO:solomon.alder@usd21.org
END:VEVENT
END:VCALENDAR