BEGIN:VCALENDAR
VERSION:2.0
PRODID:-//Brisbane ICC - ECPv6.15.20//NONSGML v1.0//EN
CALSCALE:GREGORIAN
METHOD:PUBLISH
X-WR-CALNAME:Brisbane ICC
X-ORIGINAL-URL:https://brisbaneicc.org
X-WR-CALDESC:Events for Brisbane ICC
REFRESH-INTERVAL;VALUE=DURATION:PT1H
X-Robots-Tag:noindex
X-PUBLISHED-TTL:PT1H
BEGIN:VTIMEZONE
TZID:UTC
BEGIN:STANDARD
TZOFFSETFROM:+0000
TZOFFSETTO:+0000
TZNAME:UTC
DTSTART:20230101T000000
END:STANDARD
END:VTIMEZONE
BEGIN:VEVENT
DTSTART;TZID=UTC:20240331T100000
DTEND;TZID=UTC:20240331T130000
DTSTAMP:20260425T155153
CREATED:20240319T040836Z
LAST-MODIFIED:20240329T033406Z
UID:1492-1711879200-1711890000@brisbaneicc.org
SUMMARY:Easter Service
DESCRIPTION:Come along for our Easter Sunday Service! \nCome celebrate the resurrection with us with prizes to be won.
URL:https://brisbaneicc.org/calendar/easter-service/
LOCATION:AHEPA Hall\, 128 Boundary St\, Brisbane\, Queensland\, Australia
ORGANIZER;CN="Solomon Alder":MAILTO:solomon.alder@usd21.org
END:VEVENT
BEGIN:VEVENT
DTSTART;TZID=UTC:20240121T100000
DTEND;TZID=UTC:20240121T120000
DTSTAMP:20260425T155153
CREATED:20231220T230624Z
LAST-MODIFIED:20240118T033934Z
UID:529-1705831200-1705838400@brisbaneicc.org
SUMMARY:Inaugural Service
DESCRIPTION:
URL:https://brisbaneicc.org/calendar/inaugural-service/
LOCATION:AHEPA Hall\, 128 Boundary St\, Brisbane\, Queensland\, Australia
END:VEVENT
END:VCALENDAR