BEGIN:VCALENDAR
VERSION:2.0
PRODID:-//Brisbane ICC - ECPv6.15.20//NONSGML v1.0//EN
CALSCALE:GREGORIAN
METHOD:PUBLISH
X-WR-CALNAME:Brisbane ICC
X-ORIGINAL-URL:https://brisbaneicc.org
X-WR-CALDESC:Events for Brisbane ICC
REFRESH-INTERVAL;VALUE=DURATION:PT1H
X-Robots-Tag:noindex
X-PUBLISHED-TTL:PT1H
BEGIN:VTIMEZONE
TZID:UTC
BEGIN:STANDARD
TZOFFSETFROM:+0000
TZOFFSETTO:+0000
TZNAME:UTC
DTSTART:20250101T000000
END:STANDARD
END:VTIMEZONE
BEGIN:VEVENT
DTSTART;TZID=UTC:20260118T090000
DTEND;TZID=UTC:20260118T140000
DTSTAMP:20260423T234004
CREATED:20260405T063509Z
LAST-MODIFIED:20260405T063509Z
UID:1805-1768726800-1768744800@brisbaneicc.org
SUMMARY:2nd Year Anniversary Service
DESCRIPTION:Come to our 2nd Year anniversary service! Celebrating two years since planting our Brisbane Church\, and being in the community hosting events and helping those in need! \nAll welcome\, so come along for free food\, raffles\, performances\, and more! \nHosted at the Parliament House Brisbane
URL:https://brisbaneicc.org/calendar/2nd-year-anniversary-service/
LOCATION:Parliament House\, 69 Alice Street\, Brisbane City\, QLD\, 4000\, Australia
ORGANIZER;CN="Solomon Alder":MAILTO:solomon.alder@usd21.org
END:VEVENT
BEGIN:VEVENT
DTSTART;TZID=UTC:20260405T100000
DTEND;TZID=UTC:20260405T130000
DTSTAMP:20260423T234004
CREATED:20260405T063459Z
LAST-MODIFIED:20260405T063459Z
UID:1799-1775383200-1775394000@brisbaneicc.org
SUMMARY:2026 Easter Service
DESCRIPTION:Come along for food\, fun and friends! With prizes to also to win you’ll definitely want to come be there for Easter Service as we reflect on what it means to love and sacrifice.
URL:https://brisbaneicc.org/calendar/2026-easter-service/
LOCATION:Yeronga Community Centre\, 62 Park Road\, Yeronga\, QLD\, 4104\, Australia
ORGANIZER;CN="Solomon Alder":MAILTO:solomon.alder@usd21.org
END:VEVENT
END:VCALENDAR